Workbook

Sheet 入力
A2: 入力フォーム
B5: 物件資料作成 | V5: 物件道路基本情報 | AE5: 物件資料作成
B6: 担当者 | H6: 渡邉 大地 | V6: 接道① | Y6: 道路幅員 | AB6: 6 | AE6: ｍ
Y7: 接道長さ | AB7: 9.09 | AE7: ｍ | AG7: 奥行長さ | AJ7: 10.68 | AM7: ｍ
B8: 情報元業者 | Y8: 道路方位 | AB8: 南
Y9: 道路種別 | AB9: 開発道路
B10: 土地基本情報 | K10: 物件資料作成 | Y10: 備考
B11: 所在地番 | H11: 新潟市東区上木戸二丁目556番6、556番9 | V11: 接道② | Y11: 道路幅員 | AE11: ｍ
B12: 住居表示 | H12: 新潟市東区上木戸二丁目24番29号 | Y12: 接道長さ | AE12: ｍ
B13: 土地面積（公簿） | H13: 97.08 | M13: ㎡ | N13: =ROUNDDOWN(H13*0.3025,2) -> 29.36 | S13: 坪 | Y13: 道路方位
B14: 土地面積（実測） | H14: - | M14: ㎡ | N14: =ROUNDDOWN(H14*0.3025,2) -> #VALUE! | S14: 坪 | Y14: 道路種別
B15: 道路負担有無 | H15: 有 | Y15: 備考
B16: 道路負担面積 | H16: 27 | M16: ㎡ | N16: =ROUNDDOWN(H16*0.3025,2) -> 8.16 | S16: 坪 | V16: 接道③ | Y16: 道路幅員 | AE16: ｍ
B17: 地目 | H17: 宅地 | Y17: 接道長さ | AE17: ｍ
B18: 現況 | H18: 上物有 | Y18: 道路方位
B19: 都市計画 | H19: 市街化区域 | Y19: 道路種別
B20: 用途地域 | H20: 第1種住居 | Y20: 備考
B21: 建ぺい率 | H21: 60 | K21: ％
B22: 容積率 | H22: 200 | K22: ％
B23: その他制限 | H23: 道路斜線制限、隣地斜線制限他
B24: 電気 | H24: 東北電力 | V24: 周辺環境 | AE24: 物件資料作成
B25: ガス | H25: 都市ガス | V25: 学校区 | Y25: 小学校 | AB25: 牡丹山 | AH25: 小学校
B26: 水道 | H26: 公営水道 | Y26: 距離 | AB26: 約 | AC26: 1100 | AF26: ｍ
B27: 下水 | H27: 公共下水 | Y27: 中学校 | AB27: 木戸 | AH27: 中学校
Y28: 距離 | AB28: 約 | AC28: 700 | AF28: ｍ
V29: バス停 | Y29: バス停名 | AB29: 東上木戸バス停
Y30: 距離 | AB30: 約 | AC30: 400 | AF30: ｍ
V31: 最寄駅 | Y31: 最寄駅名
B32: 建物基本情報 | K32: 物件資料作成 | Y32: 距離 | AB32: 約 | AF32: ｍ
B33: 家屋番号 | H33: 新潟市東区上木戸二丁目556番地6
B34: 種別 | H34: 居宅
B35: 構造 | H35: 木造
B36: 階建 | H36: 2 | K36: 階建
B37: 建築年月 | H37: 昭和 | J37: 47 | L37: 年 | M37: 10 | O37: 月 | V37: 物件資料作成
B38: 増改築年月 | J38: 8 | L38: 年 | V38: 物件名称 | Y38: 東区上木戸二丁目 戸建
B39: 1階床面積 | H39: 46.37 | M39: ㎡ | V39: 物件 | Y39: 中古住宅 | AE39: 態様 | AH39: 売主
B40: 2階床面積 | H40: 29.81 | M40: ㎡ | V40: 価格 | Y40: 14800000 | AD40: 円 | AE40: 坪単価（売地） | AM40: 円
B41: 3階床面積 | M41: ㎡ | V41: ポイント！ | Y41: 内外装をしっかりとリフォーム！過ごしやすく、大きすぎない間取りが魅力です♪
B42: 延床面積 | H42: =SUM(H39:L41) -> 76.18 | M42: ㎡ | N42: =ROUNDDOWN(H42*0.3025,2) -> 23.04 | S42: 坪 | V42: 引渡時期 | Y42: 即時 | AE42: 引渡条件 | AH42: 現況渡し
B43: 間取り | H43: 2LDK
...

Sheet 物件資料
E1: =入力!Y38 -> 東区上木戸二丁目 戸建 | S1: 所在地 | X1: 地番 | AC1: =入力!H11 -> 新潟市東区上木戸二丁目556番6、556番9
A2: =入力!Y39 -> 中古住宅 | F2: =入力!Y40 -> 14800000 | P2: 円
X3: （住居表示） | AC3: =入力!H12 -> 新潟市東区上木戸二丁目24番29号
A5: =入力!AH39 -> 売主 | K5: =入力!AI40 -> 0 | S5: おすすめポイント！ | Z5: =入力!Y41 -> 内外装をしっかりとリフォーム！過ごしやすく、大きすぎない間取りが魅力です♪
A7: 土地概要 | C7: 公簿面積 | F7: =入力!H13 -> 97.08 | K7: ㎡ | M7: =入力!N13 -> 29.36 | Q7: 坪
C8: 実測面積 | F8: =入力!H14 -> - | K8: ㎡ | M8: - | Q8: 坪
C9: 他私道負担 | F9: =入力!H15 -> 有 | M9: =入力!H16 -> 27 | Q9: ㎡
C10: 地目 | F10: =入力!H17 -> 宅地 | K10: 現況 | M10: =入力!H18 -> 上物有
C11: 間口 | F11: =入力!AB7 -> 9.09 | J11: ｍ | K11: 奥行 | M11: =入力!AJ7 -> 10.68 | R11: ｍ
C12: 道路 | F12: =入力!AB8 -> 南 | I12: 側 | J12: =入力!AB6 -> 6 | M12: ｍ | N12: =入力!AB9 -> 開発道路
F13: =入力!AB13 -> 0 | I13: 側 | J13: =入力!AB11 -> 0 | M13: ｍ | N13: =入力!AB14 -> 0
F14: =入力!AB18 -> 0 | I14: 側 | J14: =入力!AB16 -> 0 | M14: ｍ | N14: =入力!AB19 -> 0
A15: 建物概要 | C15: 築年月 | F15: =入力!H37 -> 昭和 | H15: =入力!J37 -> 47 | I15: 年 | J15: =入力!M37 -> 10 | K15: 月 | L15: 増改築 | O15: 令和 | Q15: =入力!J38 -> 8 | R15: 年
C16: 構造 | F16: =入力!H35 -> 木造 | L16: 階高 | O16: =入力!H36 -> 2 | Q16: 階建
C17: 建物面積 | F17: 1階 | H17: =入力!H39 -> 46.37 | K17: ㎡
F18: 2階 | H18: =入力!H40 -> 29.81 | K18: ㎡
F19: 3階 | H19: =入力!H41 -> 0 | K19: ㎡
F20: 合計 | H20: =入力!H42 -> 76.18 | K20: ㎡ | N20: =入力!N42 -> 23.04 | Q20: 坪
C21: 間取り | F21: =入力!H43 -> 2LDK | K21: 駐車場 | N21: =入力!H44 -> 2 | Q21: 台
A22: 制限等 | C22: 都市計画区域 | F22: =入力!H19 -> 市街化区域 | K22: 用途地域 | N22: =入力!H20 -> 第1種住居
C23: 建ぺい率 | F23: =入力!H21 -> 60 | I23: ％ | K23: 容積率 | N23: =入力!H22 -> 200 | Q23: ％
C24: その他制限 | F24: =入力!H23 -> 道路斜線制限、隣地斜線制限他
C25: 引渡し時期 | F25: =入力!Y42 -> 即時 | K25: 引渡し条件 | N25: 現況渡し
A26: 設備 | C26: 電気 | F26: =入力!H24 -> 東北電力 | K26: ガス | N26: =入力!H25 -> 都市ガス
C27: 水道 | F27: =入力!H26 -> 公営水道 | K27: 下水 | N27: =入力!H27 -> 公共下水
A28: 環境 | C28: =入力!AB25 -> 牡丹山 | F28: 小 | G28: 約 | H28: =入力!AC26 -> 1100 | J28: ｍ | K28: - | N28: 駅 | O28: 約 | P28: - | R28: ｍ
C29: =入力!AB27 -> 木戸 | F29: 中 | G29: 約 | H29: =入力!AC28 -> 700 | J29: ｍ | K29: =入力!AB29 -> 東上木戸バス停 | N29: 停 | O29: 約 | P29: =入力!AC30 -> 400 | R29: ｍ
A30: 備考・特記事項 | C30: =入力!Y45 -> 【リフォーム内容】
C31: =入力!Y46 -> 外壁カバーリング、駐車場増設、基礎クラック補修、
C32: =入力!Y47 -> 壁紙交換、フローリング張り、建具交換、水回り交換、
C33: =入力!Y48 -> サッシ交換、照明交換他
C34: =入力!Y49 -> 0
C35: =入力!Y50 -> 0
C36: =入力!Y51 -> 0
C37: =入力!Y52 -> 0 | T37: 公社）新潟県宅地建物取引業協会会員 首都圏不動産公正取引協議会加盟
C38: =入力!Y53 -> 0 | T38: 新潟県知事免許(4)第4863号 | AG38: 〒951-8126
A39: 支払例 （参考） | C39: 借入金 | F39: =入力!Y40 -> 14800000 | J39: 円 | K39: 返済額(月) | N39: =PMT(1%/12,35*12,F39)*-1 -> 41778.283 | R39: 円 | T39: 千代田設備グループ | AG39: 新潟市中央区学校町通一番町2番地 〔白山神社まえ・新潟地方裁判所となり〕
C40: ※支払期間35年 、 金利 1.00% 、 ボーナス払い無し | T40: 株式会社千代田開発 | AH40: 0120-0556-74 （まごころちよだ） | AO40: TEL 025-378-0538 | AT40: FAX 025-378-0539
A41: 担当 | C41: =入力!H6 -> 渡邉 大地 | G41: 仲介料（報酬額） | L41: 不払い | P41: 円（税込） | AG41: ホームページ | AK41: http://chiyodakaihatsu.net/ | AT41: 定休日：日曜日・祝日
